BEGIN:VCALENDAR
VERSION:2.0
PRODID:-//Tukios.com/
BEGIN:VEVENT
UID:ace149e5-06e6-4524-8f09-0fdba606f5ba@www.mckibbenfuneralhome.com
DTSTAMP:20260422T222833Z
DTSTART:20260502T200000Z
DTEND:20260502T210000Z
SUMMARY:Celebration of Life
DESCRIPTION:
URL:https://www.mckibbenfuneralhome.com/obituaries/stephen-barrett
LOCATION:Truth Tabernacle of Praise/ABBA's House 5705 Memorial Dr.  Stone 
	Mountain GA 30083
GEO:33.8002318;-84.2048104
END:VEVENT
END:VCALENDAR