BEGIN:VCALENDAR
VERSION:2.0
PRODID:-//Tukios.com/
BEGIN:VEVENT
UID:a0855b6b-d678-46a1-9222-12f3e0622ad8@www.mckibbenfuneralhome.com
DTSTAMP:20260420T043702Z
DTSTART:20260423T200000Z
DTEND:20260423T210000Z
SUMMARY:Memorial Service
DESCRIPTION:
URL:https://www.mckibbenfuneralhome.com/obituaries/nancy-noles
LOCATION:Claude A. McKibben and Sons Funeral Home 208 Johnson St  
	Hogansville GA 30230
GEO:33.1751332;-84.9114569
END:VEVENT
END:VCALENDAR