BEGIN:VCALENDAR
VERSION:2.0
PRODID:-//Tukios.com/
BEGIN:VEVENT
UID:21875eb2-0420-44c7-9b07-952506348191@www.mckibbenfuneralhome.com
DTSTAMP:20260420T043642Z
DTSTART:20260423T190000Z
DTEND:20260423T200000Z
SUMMARY:Visitation
DESCRIPTION:
URL:https://www.mckibbenfuneralhome.com/obituaries/nancy-noles
LOCATION:Claude A. McKibben and Sons Funeral Home 208 Johnson St  
	Hogansville GA 30230
GEO:33.1751332;-84.9114569
END:VEVENT
END:VCALENDAR