BEGIN:VCALENDAR
VERSION:2.0
PRODID:-//Tukios.com/
BEGIN:VEVENT
UID:31adf230-5688-464f-8c31-7dc42a702699@www.mckibbenfuneralhome.com
DTSTAMP:20260422T041723Z
DTSTART:20260423
SUMMARY:Burial
DESCRIPTION:
URL:https://www.mckibbenfuneralhome.com/obituaries/mary-pressley
LOCATION:  East Main Street  Hogansville GA 30230
GEO:33.1653586;-84.8921805
END:VEVENT
END:VCALENDAR