BEGIN:VCALENDAR
VERSION:2.0
PRODID:-//Tukios.com/
BEGIN:VEVENT
UID:bddba561-b9a6-4075-97ef-2707b818bf05@www.mckibbenfuneralhome.com
DTSTAMP:20260422T041840Z
DTSTART:20260423T180000Z
DTEND:20260423T190000Z
SUMMARY:Funeral Service
DESCRIPTION:
URL:https://www.mckibbenfuneralhome.com/obituaries/mary-pressley
LOCATION: 208 Johnson St  Hogansville GA 30230
GEO:33.1751332;-84.9114569
END:VEVENT
END:VCALENDAR