BEGIN:VCALENDAR
VERSION:2.0
PRODID:-//Tukios.com/
BEGIN:VEVENT
UID:c285c092-e7a8-4c60-84d4-f6eacbfa3ef8@www.mckibbenfuneralhome.com
DTSTAMP:20260422T041312Z
DTSTART:20260423T170000Z
DTEND:20260423T180000Z
SUMMARY:Visitation
DESCRIPTION:
URL:https://www.mckibbenfuneralhome.com/obituaries/mary-pressley
LOCATION: 208 Johnson St  Hogansville GA 30230
GEO:33.1751332;-84.9114569
END:VEVENT
END:VCALENDAR